BEGIN:VCALENDAR
VERSION:2.0
PRODID:-// - ECPv6.15.20//NONSGML v1.0//EN
CALSCALE:GREGORIAN
METHOD:PUBLISH
X-ORIGINAL-URL:https://www.sitarartscenter.org
X-WR-CALDESC:Events for 
REFRESH-INTERVAL;VALUE=DURATION:PT1H
X-Robots-Tag:noindex
X-PUBLISHED-TTL:PT1H
BEGIN:VTIMEZONE
TZID:America/New_York
BEGIN:DAYLIGHT
TZOFFSETFROM:-0500
TZOFFSETTO:-0400
TZNAME:EDT
DTSTART:20240310T070000
END:DAYLIGHT
BEGIN:STANDARD
TZOFFSETFROM:-0400
TZOFFSETTO:-0500
TZNAME:EST
DTSTART:20241103T060000
END:STANDARD
BEGIN:DAYLIGHT
TZOFFSETFROM:-0500
TZOFFSETTO:-0400
TZNAME:EDT
DTSTART:20250309T070000
END:DAYLIGHT
BEGIN:STANDARD
TZOFFSETFROM:-0400
TZOFFSETTO:-0500
TZNAME:EST
DTSTART:20251102T060000
END:STANDARD
BEGIN:DAYLIGHT
TZOFFSETFROM:-0500
TZOFFSETTO:-0400
TZNAME:EDT
DTSTART:20260308T070000
END:DAYLIGHT
BEGIN:STANDARD
TZOFFSETFROM:-0400
TZOFFSETTO:-0500
TZNAME:EST
DTSTART:20261101T060000
END:STANDARD
BEGIN:DAYLIGHT
TZOFFSETFROM:-0500
TZOFFSETTO:-0400
TZNAME:EDT
DTSTART:20270314T070000
END:DAYLIGHT
BEGIN:STANDARD
TZOFFSETFROM:-0400
TZOFFSETTO:-0500
TZNAME:EST
DTSTART:20271107T060000
END:STANDARD
END:VTIMEZONE
BEGIN:VEVENT
DTSTART;VALUE=DATE:20260217
DTEND;VALUE=DATE:20260218
DTSTAMP:20260423T042522
CREATED:20260115T010334Z
LAST-MODIFIED:20260202T171457Z
UID:11238-1771286400-1771372799@www.sitarartscenter.org
SUMMARY:Bloomberg Arts Internship Priority Application Deadline
DESCRIPTION:
URL:https://www.sitarartscenter.org/calendar-item/regional-arts-internship-priority-application-deadline/
END:VEVENT
BEGIN:VEVENT
DTSTART;VALUE=DATE:20260216
DTEND;VALUE=DATE:20260217
DTSTAMP:20260423T042522
CREATED:20260105T205020Z
LAST-MODIFIED:20260105T205020Z
UID:11219-1771200000-1771286399@www.sitarartscenter.org
SUMMARY:Presidents Day (Sitar Closed/Sitar cerrado)
DESCRIPTION:
URL:https://www.sitarartscenter.org/calendar-item/presidents-day-sitar-closed-sitar-cerrado-2/
END:VEVENT
BEGIN:VEVENT
DTSTART;TZID=America/New_York:20260213T090000
DTEND;TZID=America/New_York:20260213T170000
DTSTAMP:20260423T042522
CREATED:20260203T200602Z
LAST-MODIFIED:20260203T200659Z
UID:11280-1770973200-1771002000@www.sitarartscenter.org
SUMMARY:PLAY Day with Keegan Theatre | Día de Juego con el Keegan Theatre
DESCRIPTION:When school is out\, come PLAY with Keegan Theatre for the day at Sitar Arts Center! Each PLAY Day features a surprise theme to be explored in immersive ways through imagination\, creation\, role playing\, games\, music\, and movement. Every PLAY Day is a new adventure! RSVP Today >  \n  \nCuando no haya escuela\, ¡ven a JUGAR con el Keegan Theatre durante todo el día en el Sitar Arts Center! Cada PLAY Day cuenta con un tema sorpresa que se explorará de forma inmersiva a través de la imaginación\, la creación\, los juegos de rol\, los juegos\, la música y el movimiento. ¡Cada PLAY Day es una nueva aventura! RSVP Hoy > 
URL:https://www.sitarartscenter.org/calendar-item/play-day-with-keegan-theatre-dia-de-juego-con-el-keegan-theatre/
END:VEVENT
BEGIN:VEVENT
DTSTART;TZID=America/New_York:20260212T190000
DTEND;TZID=America/New_York:20260212T203000
DTSTAMP:20260423T042522
CREATED:20251212T170104Z
LAST-MODIFIED:20260202T171844Z
UID:11197-1770922800-1770928200@www.sitarartscenter.org
SUMMARY:Opening Reception: 16th Annual Patricia Sitar Juried Exhibition - Belonging
DESCRIPTION:Join us for the opening reception for “Belonging”\, the 16th Annual Patricia Sitar Juried Exhibition\, at Sitar Arts Center’s Cafritz Gallery. This special exhibition features 28 local and national artists whose work explores what it means to be seen\, connected\, and at home in our bodies\, our communities\, and the world.   RSVP Today >  \nAcompáñenos en la recepción de apertura de Belonging\, la 16.ª Exposición Anual con Jurado Patricia Sitar\, en la Galería Cafritz de Sitar Arts Center. Esta exhibición especial presenta a 28 artistas locales y nacionales cuya obra explora lo que significa ser visto\, estar conectado y sentirse en casa en nuestros cuerpos\, nuestras comunidades y el mundo. RSVP Hoy >
URL:https://www.sitarartscenter.org/calendar-item/opening-reception-16th-annual-patricia-sitar-juried-exhibition-belonging/
END:VEVENT
BEGIN:VEVENT
DTSTART;TZID=America/New_York:20260210T120000
DTEND;TZID=America/New_York:20260210T140000
DTSTAMP:20260423T042522
CREATED:20260202T211622Z
LAST-MODIFIED:20260202T211622Z
UID:11279-1770724800-1770732000@www.sitarartscenter.org
SUMMARY:A Conversation with Kathleen deLaski
DESCRIPTION:We’re sitting down with Kathleen deLaski\, founder of Education Design Lab and author of “Who Needs College Anymore: Imagining a Future Where Degrees Won’t Matter”\, for a timely conversation on how AI\, creativity\, and alternative learning pathways are reshaping opportunity after high school. \nThis moderated fireside chat will explore what comes next when a four-year degree is no longer the default—and what educators\, counselors\, and institutions can do now to better support young people navigating a non-linear future. RSVP Today and Jojn the Conversation> 
URL:https://www.sitarartscenter.org/calendar-item/a-conversation-with-kathleen-delaski/
END:VEVENT
BEGIN:VEVENT
DTSTART;TZID=America/New_York:20260207T100000
DTEND;TZID=America/New_York:20260207T120000
DTSTAMP:20260423T042522
CREATED:20260105T204802Z
LAST-MODIFIED:20260202T171606Z
UID:11217-1770458400-1770465600@www.sitarartscenter.org
SUMMARY:Friendship/Valentine's Event / Evento de amistad/San Valentín
DESCRIPTION:Join us for a special all-ages workshop led by Kai Diaz\, one of our wonderful Camp Sitar teachers. Together\, we’ll create personalized singing telegrams\, the perfect heartfelt surprise to share with friends on Valentine’s Day. \nAcompáñenos en un taller especial para todas las edades dirigido por Kai Diaz\, uno de nuestros maravillosos profesores de Camp Sitar. Juntos\, crearemos telegramas cantados personalizados: la sorpresa perfecta y sincera para compartir con amigos en el Día de San Valentín. 
URL:https://www.sitarartscenter.org/calendar-item/friendship-valentines-event-evento-de-amistad-san-valentin/
END:VEVENT
BEGIN:VEVENT
DTSTART;VALUE=DATE:20260127
DTEND;VALUE=DATE:20260128
DTSTAMP:20260423T042522
CREATED:20251212T160826Z
LAST-MODIFIED:20260124T232002Z
UID:11192-1769472000-1769558399@www.sitarartscenter.org
SUMMARY:Spring Semester Begins | Comienza el semestre de primavera
DESCRIPTION:
URL:https://www.sitarartscenter.org/calendar-item/spring-semester-begins-comienza-el-semestre-de-primavera/
END:VEVENT
BEGIN:VEVENT
DTSTART;VALUE=DATE:20260126
DTEND;VALUE=DATE:20260127
DTSTAMP:20260423T042522
CREATED:20260124T231744Z
LAST-MODIFIED:20260124T231744Z
UID:11249-1769385600-1769471999@www.sitarartscenter.org
SUMMARY:Sitar Closed Due to Weather | Sitar cerrado por mal tiempo
DESCRIPTION:
URL:https://www.sitarartscenter.org/calendar-item/sitar-closed-due-to-weather-sitar-cerrado-por-mal-tiempo/
END:VEVENT
BEGIN:VEVENT
DTSTART;TZID=America/New_York:20260122T183000
DTEND;TZID=America/New_York:20260122T203000
DTSTAMP:20260423T042522
CREATED:20260105T202830Z
LAST-MODIFIED:20260105T202830Z
UID:11212-1769106600-1769113800@www.sitarartscenter.org
SUMMARY:Artists at Work Speakers Series: Jeff Bazemore
DESCRIPTION:Join us for the first conversation in our 2026 Artists at Work Speakers Series! We’re going behind-the-scenes with Jeff Bazemore\, senior production manager at Arena Stage.   Learn More > 
URL:https://www.sitarartscenter.org/calendar-item/artists-at-work-speakers-series-jeff-bazemore/
END:VEVENT
BEGIN:VEVENT
DTSTART;TZID=America/New_York:20260121T180000
DTEND;TZID=America/New_York:20260121T190000
DTSTAMP:20260423T042522
CREATED:20260105T204659Z
LAST-MODIFIED:20260105T204659Z
UID:11216-1769018400-1769022000@www.sitarartscenter.org
SUMMARY:Parent Orientation (Virtual) / Orientación para padres (Virtual)
DESCRIPTION:
URL:https://www.sitarartscenter.org/calendar-item/parent-orientation-virtual-orientacion-para-padres-virtual/
END:VEVENT
BEGIN:VEVENT
DTSTART;VALUE=DATE:20260119
DTEND;VALUE=DATE:20260120
DTSTAMP:20260423T042522
CREATED:20260105T204920Z
LAST-MODIFIED:20260105T204920Z
UID:11218-1768780800-1768867199@www.sitarartscenter.org
SUMMARY:Dr. Martin Luther King Jr. Day (Sitar Closed/Sitar cerrado)
DESCRIPTION:
URL:https://www.sitarartscenter.org/calendar-item/dr-martin-luther-king-jr-day-sitar-closed-sitar-cerrado/
END:VEVENT
BEGIN:VEVENT
DTSTART;TZID=America/New_York:20260116T160000
DTEND;TZID=America/New_York:20260116T200000
DTSTAMP:20260423T042522
CREATED:20250929T195022Z
LAST-MODIFIED:20251212T170659Z
UID:11123-1768579200-1768593600@www.sitarartscenter.org
SUMMARY:Open Studios | Estudios Abiertos
DESCRIPTION:Once a month Sitar Arts Center opens its doors free of charge to teens and young adults ages 14-24 to pursue their creativity\, explore different art forms\, and build community. Attendees can work in our art studios\, music rooms\, dance studio\, and digital art labs. Artists of all skill levels are welcome. RSVP here to join! \nUna vez al mes\, Sitar Arts Center abre sus puertas de forma gratuita a adolescentes y jóvenes de 14 a 24 años para que utilicen su propia creatividad\, exploren diferentes formas de arte y construyan comunidad. Los asistentes pueden trabajar en nuestros Estudios de Arte\, Salas de Música\, Estudio de Danza y Laboratorios de Arte Digital. Artistas de todos los niveles de habilidad son bienvenidos. ¡Confirma tu asistencia aquí  para unirte!
URL:https://www.sitarartscenter.org/calendar-item/open-studios-estudios-abiertos-10/
END:VEVENT
BEGIN:VEVENT
DTSTART;TZID=America/New_York:20260115T180000
DTEND;TZID=America/New_York:20260115T190000
DTSTAMP:20260423T042522
CREATED:20260105T204547Z
LAST-MODIFIED:20260105T204547Z
UID:11215-1768500000-1768503600@www.sitarartscenter.org
SUMMARY:Faculty Orientation (Virtual)
DESCRIPTION:
URL:https://www.sitarartscenter.org/calendar-item/faculty-orientation-virtual/
END:VEVENT
BEGIN:VEVENT
DTSTART;TZID=America/New_York:20260110T100000
DTEND;TZID=America/New_York:20260110T130000
DTSTAMP:20260423T042522
CREATED:20260105T204411Z
LAST-MODIFIED:20260105T204411Z
UID:11213-1768039200-1768050000@www.sitarartscenter.org
SUMMARY:Faculty Workshop
DESCRIPTION:
URL:https://www.sitarartscenter.org/calendar-item/faculty-workshop/
END:VEVENT
BEGIN:VEVENT
DTSTART;VALUE=DATE:20251223
DTEND;VALUE=DATE:20251231
DTSTAMP:20260423T042522
CREATED:20250919T202816Z
LAST-MODIFIED:20251212T170859Z
UID:11063-1766448000-1767139199@www.sitarartscenter.org
SUMMARY:Winter Break (Sitar Closed) | Vacaciones de invierno (Sitar cerrado)
DESCRIPTION:
URL:https://www.sitarartscenter.org/calendar-item/winter-break-sitar-closed-vacaciones-de-invierno-sitar-cerrado/
END:VEVENT
BEGIN:VEVENT
DTSTART;TZID=America/New_York:20251217T180000
DTEND;TZID=America/New_York:20251217T193000
DTSTAMP:20260423T042522
CREATED:20251212T164935Z
LAST-MODIFIED:20251212T164935Z
UID:11196-1765994400-1765999800@www.sitarartscenter.org
SUMMARY:Teen Holiday Mixer
DESCRIPTION:Young creatives ages 14–21 are invited to end the year with creativity\, connection\, and new inspiration at our Young Artist Mixer at Touchstone Gallery located at 901 New York Ave NW\, Washington\, DC 20001. RSVP >
URL:https://www.sitarartscenter.org/calendar-item/teen-holiday-mixer/
END:VEVENT
BEGIN:VEVENT
DTSTART;VALUE=DATE:20251214
DTEND;VALUE=DATE:20251215
DTSTAMP:20260423T042522
CREATED:20251008T011108Z
LAST-MODIFIED:20251008T011108Z
UID:11145-1765670400-1765756799@www.sitarartscenter.org
SUMMARY:16th Annual Patricia Sitar Juried Exhibition Submission Deadline
DESCRIPTION:Sitar Arts Center invites artists to submit original artwork for the 16th Annual Patricia Sitar Juried Exhibition: “Belonging.” Learn More > \nSitar Arts Center invita a los artistas a presentar obras de arte originales para la 16.ª Exposición Anual con Jurado Patricia Sitar: Pertenencia. Más información >
URL:https://www.sitarartscenter.org/calendar-item/16th-annual-patricia-sitar-juried-exhibition-submission-deadline/
END:VEVENT
BEGIN:VEVENT
DTSTART;TZID=America/New_York:20251212T180000
DTEND;TZID=America/New_York:20251212T193000
DTSTAMP:20260423T042522
CREATED:20251212T170345Z
LAST-MODIFIED:20251212T170345Z
UID:11198-1765562400-1765567800@www.sitarartscenter.org
SUMMARY:Teen Holiday Party
DESCRIPTION:
URL:https://www.sitarartscenter.org/calendar-item/teen-holiday-party/
END:VEVENT
BEGIN:VEVENT
DTSTART;VALUE=DATE:20251208
DTEND;VALUE=DATE:20251212
DTSTAMP:20260423T042522
CREATED:20250731T094651Z
LAST-MODIFIED:20250731T094651Z
UID:10986-1765152000-1765497599@www.sitarartscenter.org
SUMMARY:Fall Student Showcase | Escaparate estudiantil de otoño
DESCRIPTION:
URL:https://www.sitarartscenter.org/calendar-item/fall-student-showcase-escaparate-estudiantil-de-otono-2/
END:VEVENT
BEGIN:VEVENT
DTSTART;VALUE=DATE:20251206
DTEND;VALUE=DATE:20251207
DTSTAMP:20260423T042522
CREATED:20250731T093841Z
LAST-MODIFIED:20250731T093841Z
UID:10982-1764979200-1765065599@www.sitarartscenter.org
SUMMARY:Fall Semester Ends | Finaliza el semestre de otoño
DESCRIPTION:
URL:https://www.sitarartscenter.org/calendar-item/fall-semester-ends-finaliza-el-semestre-de-otono-2/
END:VEVENT
BEGIN:VEVENT
DTSTART;TZID=America/New_York:20251205T160000
DTEND;TZID=America/New_York:20251205T200000
DTSTAMP:20260423T042522
CREATED:20250929T194825Z
LAST-MODIFIED:20250929T194825Z
UID:11120-1764950400-1764964800@www.sitarartscenter.org
SUMMARY:Open Studios | Estudios Abiertos
DESCRIPTION:Once a month Sitar Arts Center opens its doors free of charge to teens and young adults ages 14-24 to pursue their creativity\, explore different art forms\, and build community. Attendees can work in our art studios\, music rooms\, dance studio\, and digital art labs. Artists of all skill levels are welcome. RSVP here to join! \nUna vez al mes\, Sitar Arts Center abre sus puertas de forma gratuita a adolescentes y jóvenes de 14 a 24 años para que utilicen su propia creatividad\, exploren diferentes formas de arte y construyan comunidad. Los asistentes pueden trabajar en nuestros Estudios de Arte\, Salas de Música\, Estudio de Danza y Laboratorios de Arte Digital. Artistas de todos los niveles de habilidad son bienvenidos. ¡Confirma tu asistencia aquí  para unirte!
URL:https://www.sitarartscenter.org/calendar-item/open-studios-estudios-abiertos-7/
END:VEVENT
BEGIN:VEVENT
DTSTART;TZID=America/New_York:20251202T080000
DTEND;TZID=America/New_York:20260123T180000
DTSTAMP:20260423T042522
CREATED:20251212T160710Z
LAST-MODIFIED:20251212T160710Z
UID:11189-1764662400-1769191200@www.sitarartscenter.org
SUMMARY:Spring Registration |  Inscripción de primavera
DESCRIPTION:
URL:https://www.sitarartscenter.org/calendar-item/spring-registration-inscripcion-de-primavera-2/
END:VEVENT
BEGIN:VEVENT
DTSTART;VALUE=DATE:20251126
DTEND;VALUE=DATE:20251130
DTSTAMP:20260423T042522
CREATED:20250731T094815Z
LAST-MODIFIED:20251117T165617Z
UID:10987-1764115200-1764460799@www.sitarartscenter.org
SUMMARY:Thanksgiving Break (Sitar Closed)
DESCRIPTION:
URL:https://www.sitarartscenter.org/calendar-item/thanksgiving-break-sitar-closed-2/
END:VEVENT
BEGIN:VEVENT
DTSTART;TZID=America/New_York:20251121T180000
DTEND;TZID=America/New_York:20251121T193000
DTSTAMP:20260423T042522
CREATED:20251028T155831Z
LAST-MODIFIED:20251028T160350Z
UID:11150-1763748000-1763753400@www.sitarartscenter.org
SUMMARY:Arts After Hours Workshop | Taller de arte después del horario laboral
DESCRIPTION:Join Sitar’s vibrant parent community for a joyful evening of creativity\, connection\, and holiday cheer! Unwind and get crafty in our hands-on bookbinding workshop\, where you’ll create something beautiful while sipping on festive adult beverages and enjoying seasonal treats. This special evening is designed just for parents\, while kids enjoy their own night of fun. We will have a movie night for the kids in our theatre. RSVP Today >  \n  \n¡Únase a la animada comunidad de padres de Sitar para disfrutar de una alegre velada llena de creatividad\, convivencia y espíritu navideño! Relájese y dé rienda suelta a su creatividad en nuestro taller práctico de encuadernación\, donde creará algo bonito mientras degusta bebidas festivas para adultos y disfruta de delicias de temporada. Esta velada especial está pensada exclusivamente para los padres\, mientras los niños disfrutan de su propia noche de diversión. Tendremos una noche de cine para los niños en nuestro teatro. RSVP Hoy > \n 
URL:https://www.sitarartscenter.org/calendar-item/arts-after-hours-workshop/
END:VEVENT
BEGIN:VEVENT
DTSTART;TZID=America/New_York:20251121T160000
DTEND;TZID=America/New_York:20251121T200000
DTSTAMP:20260423T042522
CREATED:20250929T194645Z
LAST-MODIFIED:20251007T200214Z
UID:11119-1763740800-1763755200@www.sitarartscenter.org
SUMMARY:Open Studios | Estudio  Abiertos
DESCRIPTION:Once a month Sitar Arts Center opens its doors free of charge to teens and young adults ages 14-24 to pursue their creativity\, explore different art forms\, and build community. Attendees can work in our art studios\, music rooms\, dance studio\, and digital art labs. Artists of all skill levels are welcome. RSVP here to join! \nUna vez al mes\, Sitar Arts Center abre sus puertas de forma gratuita a adolescentes y jóvenes de 14 a 24 años para que utilicen su propia creatividad\, exploren diferentes formas de arte y construyan comunidad. Los asistentes pueden trabajar en nuestros Estudios de Arte\, Salas de Música\, Estudio de Danza y Laboratorios de Arte Digital. Artistas de todos los niveles de habilidad son bienvenidos. ¡Confirma tu asistencia aquí  para unirte!
URL:https://www.sitarartscenter.org/calendar-item/open-studios-estudio-abiertos/
END:VEVENT
BEGIN:VEVENT
DTSTART;VALUE=DATE:20251111
DTEND;VALUE=DATE:20251112
DTSTAMP:20260423T042522
CREATED:20250919T202441Z
LAST-MODIFIED:20250919T202441Z
UID:11060-1762819200-1762905599@www.sitarartscenter.org
SUMMARY:Veterans Day (Sitar Closed) | (Sitar Cerrado)
DESCRIPTION:
URL:https://www.sitarartscenter.org/calendar-item/veterans-day-sitar-closed-sitar-cerrado/
END:VEVENT
BEGIN:VEVENT
DTSTART;TZID=America/New_York:20251107T180000
DTEND;TZID=America/New_York:20251107T210000
DTSTAMP:20260423T042522
CREATED:20251028T160503Z
LAST-MODIFIED:20251028T160659Z
UID:11151-1762538400-1762549200@www.sitarartscenter.org
SUMMARY:Artist At Work Speakers Series: Call Me Dancer
DESCRIPTION:A special presentation of the Artists at Work Speaker Series\, presented by Sitar’s Emerging Arts Leaders (S.E.A.L.) in partnership with Sitar’s Leadership Council. Experience the award-winning documentary CALL ME DANCER\, followed by a moderated Director Talk with filmmaker Leslie Shampaine\, who co-directed the film with Pip Gilmour. The film brings to life a moving true story that celebrates the power of mentorship\, resilience\, and the pursuit of creative dreams.  RSVP Today! >
URL:https://www.sitarartscenter.org/calendar-item/artist-at-work-speakers-series-call-me-dancer/
END:VEVENT
BEGIN:VEVENT
DTSTART;TZID=America/New_York:20251106T190000
DTEND;TZID=America/New_York:20251106T203000
DTSTAMP:20260423T042522
CREATED:20251007T092747Z
LAST-MODIFIED:20251007T092747Z
UID:11140-1762455600-1762461000@www.sitarartscenter.org
SUMMARY:Opening Reception: In Ekphrasis by Jennifer Wessmiller
DESCRIPTION:
URL:https://www.sitarartscenter.org/calendar-item/opening-reception-in-ekphrasis-by-jennifer-wessmiller/
END:VEVENT
BEGIN:VEVENT
DTSTART;VALUE=DATE:20251103
DTEND;VALUE=DATE:20251104
DTSTAMP:20260423T042522
CREATED:20250919T201021Z
LAST-MODIFIED:20250919T203056Z
UID:11056-1762128000-1762214399@www.sitarartscenter.org
SUMMARY:Sitar Open - No DCPS Classes | Sitar Abierto - No hay clases en DCPS
DESCRIPTION:
URL:https://www.sitarartscenter.org/calendar-item/sitar-open-no-dcps-classes-sitar-abierto-no-hay-clases-en-dcps/
END:VEVENT
BEGIN:VEVENT
DTSTART;TZID=America/New_York:20251028T170000
DTEND;TZID=America/New_York:20251028T183000
DTSTAMP:20260423T042522
CREATED:20250929T190519Z
LAST-MODIFIED:20250929T194305Z
UID:11118-1761670800-1761676200@www.sitarartscenter.org
SUMMARY:Café Series Presents: Sitar Spooktacular | Café Series presenta: Sitar Spooktackular
DESCRIPTION:Join us for a mid-semester presentation of our students’ incredible work! This is a unique opportunity to see their creative process firsthand and get a sneak peek at the projects they’ve been working on. Come celebrate their progress and cheer on our talented artists.  \n\n¡Únete a nosotros para una presentación a mitad de semestre del increíble trabajo de nuestros estudiantes! ¡Esta es una oportunidad única para ver de cerca su proceso creativo y obtener un adelanto de los proyectos en los que han estado trabajando! Ven a celebrar su progreso y animar a nuestros talentosos artistas. 
URL:https://www.sitarartscenter.org/calendar-item/cafe-series-presents-sitar-spooktacular-cafe-series-presenta-sitar-spooktackular/
END:VEVENT
END:VCALENDAR